BEGIN:VCALENDAR
VERSION:2.0
PRODID:-// - ECPv6.15.20//NONSGML v1.0//EN
CALSCALE:GREGORIAN
METHOD:PUBLISH
X-ORIGINAL-URL:https://gmvc.nl
X-WR-CALDESC:Evenementen voor 
REFRESH-INTERVAL;VALUE=DURATION:PT1H
X-Robots-Tag:noindex
X-PUBLISHED-TTL:PT1H
BEGIN:VTIMEZONE
TZID:Europe/Amsterdam
BEGIN:DAYLIGHT
TZOFFSETFROM:+0100
TZOFFSETTO:+0200
TZNAME:CEST
DTSTART:20250330T010000
END:DAYLIGHT
BEGIN:STANDARD
TZOFFSETFROM:+0200
TZOFFSETTO:+0100
TZNAME:CET
DTSTART:20251026T010000
END:STANDARD
BEGIN:DAYLIGHT
TZOFFSETFROM:+0100
TZOFFSETTO:+0200
TZNAME:CEST
DTSTART:20260329T010000
END:DAYLIGHT
BEGIN:STANDARD
TZOFFSETFROM:+0200
TZOFFSETTO:+0100
TZNAME:CET
DTSTART:20261025T010000
END:STANDARD
BEGIN:DAYLIGHT
TZOFFSETFROM:+0100
TZOFFSETTO:+0200
TZNAME:CEST
DTSTART:20270328T010000
END:DAYLIGHT
BEGIN:STANDARD
TZOFFSETFROM:+0200
TZOFFSETTO:+0100
TZNAME:CET
DTSTART:20271031T010000
END:STANDARD
END:VTIMEZONE
BEGIN:VEVENT
DTSTART;VALUE=DATE:20260509
DTEND;VALUE=DATE:20260510
DTSTAMP:20260420T133803
CREATED:20260210T122449Z
LAST-MODIFIED:20260210T122449Z
UID:156-1778284800-1778371199@gmvc.nl
SUMMARY:NK RC Parachute springen
DESCRIPTION:Het Nederlands kampioenschap parachute springen zal dit jaar worden gehouden bij de GMVC op Zaterdag 9 Mei.\nDeze dag is het mogelijk om te kijken\, leren en vragen te stellen aan de wedstrijd vliegers.
URL:https://gmvc.nl/activiteit/nk-rc-parachute-springen/
END:VEVENT
BEGIN:VEVENT
DTSTART;VALUE=DATE:20260514
DTEND;VALUE=DATE:20260518
DTSTAMP:20260420T133803
CREATED:20260210T122605Z
LAST-MODIFIED:20260210T122605Z
UID:158-1778716800-1779062399@gmvc.nl
SUMMARY:GMVC Kamp
DESCRIPTION:Van 14 tot en met 17 Mei zal het jaarlijkse GMVC kamp weer worden georganiseerd.
URL:https://gmvc.nl/activiteit/gmvc-kamp/
END:VEVENT
BEGIN:VEVENT
DTSTART;VALUE=DATE:20260711
DTEND;VALUE=DATE:20260712
DTSTAMP:20260420T133803
CREATED:20260210T122739Z
LAST-MODIFIED:20260210T122739Z
UID:160-1783728000-1783814399@gmvc.nl
SUMMARY:50 jarig jubileum GMVC
DESCRIPTION:Dit jaar viert de GMVC haar 50 jarig bestaan! \nDat is niet niks\, om hierbij stil te staan word er op Zaterdag 11 Juli een feestelijke dag georganiseerd voor\, en door de leden van de GMVC.
URL:https://gmvc.nl/activiteit/50-jarig-jubileum-gmvc/
END:VEVENT
BEGIN:VEVENT
DTSTART;VALUE=DATE:20260905
DTEND;VALUE=DATE:20260906
DTSTAMP:20260420T133803
CREATED:20260210T122830Z
LAST-MODIFIED:20260210T122830Z
UID:163-1788566400-1788652799@gmvc.nl
SUMMARY:WW2 dag
DESCRIPTION:De jaarlijkse GMVC WW2 dag vind dit jaar weer plaats op 5 September
URL:https://gmvc.nl/activiteit/ww2-dag/
END:VEVENT
END:VCALENDAR